BEGIN:VCALENDAR
VERSION:2.0
PRODID:-//Glenrothes Hillwalkers Club - ECPv6.15.20//NONSGML v1.0//EN
CALSCALE:GREGORIAN
METHOD:PUBLISH
X-WR-CALNAME:Glenrothes Hillwalkers Club
X-ORIGINAL-URL:https://www.glenrotheshillwalkers.co.uk
X-WR-CALDESC:Events for Glenrothes Hillwalkers Club
REFRESH-INTERVAL;VALUE=DURATION:PT1H
X-Robots-Tag:noindex
X-PUBLISHED-TTL:PT1H
BEGIN:VTIMEZONE
TZID:Europe/London
BEGIN:DAYLIGHT
TZOFFSETFROM:+0000
TZOFFSETTO:+0100
TZNAME:BST
DTSTART:20250330T010000
END:DAYLIGHT
BEGIN:STANDARD
TZOFFSETFROM:+0100
TZOFFSETTO:+0000
TZNAME:GMT
DTSTART:20251026T010000
END:STANDARD
BEGIN:DAYLIGHT
TZOFFSETFROM:+0000
TZOFFSETTO:+0100
TZNAME:BST
DTSTART:20260329T010000
END:DAYLIGHT
BEGIN:STANDARD
TZOFFSETFROM:+0100
TZOFFSETTO:+0000
TZNAME:GMT
DTSTART:20261025T010000
END:STANDARD
BEGIN:DAYLIGHT
TZOFFSETFROM:+0000
TZOFFSETTO:+0100
TZNAME:BST
DTSTART:20270328T010000
END:DAYLIGHT
BEGIN:STANDARD
TZOFFSETFROM:+0100
TZOFFSETTO:+0000
TZNAME:GMT
DTSTART:20271031T010000
END:STANDARD
END:VTIMEZONE
BEGIN:VEVENT
DTSTART;TZID=Europe/London:20260906T000000
DTEND;TZID=Europe/London:20260906T235959
DTSTAMP:20260422T121150
CREATED:20260411T183047Z
LAST-MODIFIED:20260411T183048Z
UID:1364-1788652800-1788739199@www.glenrotheshillwalkers.co.uk
SUMMARY:Loch Laggan
DESCRIPTION:Walk A Carn Liath \,Stob Poite Coire Ardair\,Creag Meagaidh \n\n\n\nWalk B Creag Meagaidh \n\n\n\nWalk C Lochan na h-Earba & Loch Laggan
URL:https://www.glenrotheshillwalkers.co.uk/event/loch-laggan-2/
ATTACH;FMTTYPE=image/webp:https://www.glenrotheshillwalkers.co.uk/wp-content/uploads/2024/02/1575741189Boy-And-Girl-Students-colour.webp
END:VEVENT
BEGIN:VEVENT
DTSTART;TZID=Europe/London:20260918T000000
DTEND;TZID=Europe/London:20260922T235959
DTSTAMP:20260422T121150
CREATED:20250623T150551Z
LAST-MODIFIED:20260115T150541Z
UID:1143-1789689600-1790121599@www.glenrotheshillwalkers.co.uk
SUMMARY:Knoydart
DESCRIPTION:4 Nights. \n\n\n\nKnoydart Lodge Bunkhouse. \n\n\n\nhttps://www.visitscotland.com/info/accommodation/knoydart-lodge-p2686831 \n\n\n\nThis is a fabulous accommodation. 9 people have signed up for this but we really need  someone else to reduce the price. Total price is 2200 pounds so if we have 10 people it is  220 pounds for the 4 nights. With only 9 of us\, it will be 244.45 each. I know 220 seems a lot but it is such a wonderful area to explore.  \n\n\n\nONE PLACE AVAILABLE
URL:https://www.glenrotheshillwalkers.co.uk/event/knoydart-lodge-bunkhouse/
CATEGORIES:Weekend
ATTACH;FMTTYPE=image/png:https://www.glenrotheshillwalkers.co.uk/wp-content/uploads/2024/02/House18.png
END:VEVENT
END:VCALENDAR