BEGIN:VCALENDAR
VERSION:2.0
PRODID:-//Glenrothes Hillwalkers Club - ECPv6.15.20//NONSGML v1.0//EN
CALSCALE:GREGORIAN
METHOD:PUBLISH
X-ORIGINAL-URL:https://www.glenrotheshillwalkers.co.uk
X-WR-CALDESC:Events for Glenrothes Hillwalkers Club
REFRESH-INTERVAL;VALUE=DURATION:PT1H
X-Robots-Tag:noindex
X-PUBLISHED-TTL:PT1H
BEGIN:VTIMEZONE
TZID:Europe/London
BEGIN:DAYLIGHT
TZOFFSETFROM:+0000
TZOFFSETTO:+0100
TZNAME:BST
DTSTART:20230326T010000
END:DAYLIGHT
BEGIN:STANDARD
TZOFFSETFROM:+0100
TZOFFSETTO:+0000
TZNAME:GMT
DTSTART:20231029T010000
END:STANDARD
BEGIN:DAYLIGHT
TZOFFSETFROM:+0000
TZOFFSETTO:+0100
TZNAME:BST
DTSTART:20240331T010000
END:DAYLIGHT
BEGIN:STANDARD
TZOFFSETFROM:+0100
TZOFFSETTO:+0000
TZNAME:GMT
DTSTART:20241027T010000
END:STANDARD
BEGIN:DAYLIGHT
TZOFFSETFROM:+0000
TZOFFSETTO:+0100
TZNAME:BST
DTSTART:20250330T010000
END:DAYLIGHT
BEGIN:STANDARD
TZOFFSETFROM:+0100
TZOFFSETTO:+0000
TZNAME:GMT
DTSTART:20251026T010000
END:STANDARD
END:VTIMEZONE
BEGIN:VEVENT
DTSTART;TZID=Europe/London:20241001T193000
DTEND;TZID=Europe/London:20241001T213000
DTSTAMP:20260421T143943
CREATED:20240610T174425Z
LAST-MODIFIED:20240610T174426Z
UID:980-1727811000-1727818200@www.glenrotheshillwalkers.co.uk
SUMMARY:Indoor Meeting
DESCRIPTION:Lomond Center \n\n\n\n\n\nIntroduction to Club Hut Weekends
URL:https://www.glenrotheshillwalkers.co.uk/event/indoor-meeting-5/
CATEGORIES:Meeting
ATTACH;FMTTYPE=image/jpeg:https://www.glenrotheshillwalkers.co.uk/wp-content/uploads/2023/01/LomondCentre.jpg
END:VEVENT
BEGIN:VEVENT
DTSTART;TZID=Europe/London:20241013T000000
DTEND;TZID=Europe/London:20241013T235959
DTSTAMP:20260421T143943
CREATED:20240517T053931Z
LAST-MODIFIED:20240724T201909Z
UID:962-1728777600-1728863999@www.glenrotheshillwalkers.co.uk
SUMMARY:Tyndrum Date changed
DESCRIPTION:A&B Walk Beinn Challium GR386322 \n\n\n\nC Walk Dalrigh-Tyndrum (Via Connonish Mine) \n\n\n\nMonthly walk with transport provided
URL:https://www.glenrotheshillwalkers.co.uk/event/tyndrum/
CATEGORIES:Walk
ATTACH;FMTTYPE=image/png:https://www.glenrotheshillwalkers.co.uk/wp-content/uploads/2023/01/Coach.png
END:VEVENT
BEGIN:VEVENT
DTSTART;TZID=Europe/London:20241025T000000
DTEND;TZID=Europe/London:20241028T235959
DTSTAMP:20260421T143943
CREATED:20231207T183626Z
LAST-MODIFIED:20240404T204653Z
UID:849-1729814400-1730159999@www.glenrotheshillwalkers.co.uk
SUMMARY:Lake District
DESCRIPTION:Fully Booked. \n\n\n\nWassdale Hostel \n\n\n\n8 Places for 3 nights \n\n\n\n£150.00
URL:https://www.glenrotheshillwalkers.co.uk/event/lake-district/
CATEGORIES:Weekend
ATTACH;FMTTYPE=image/png:https://www.glenrotheshillwalkers.co.uk/wp-content/uploads/2024/02/House18.png
ORGANIZER;CN="Jane McMinn":MAILTO:weekends@glenrotheshillwalkers.co.uk
END:VEVENT
END:VCALENDAR