BEGIN:VCALENDAR
VERSION:2.0
PRODID:-//Glenrothes Hillwalkers Club - ECPv6.15.20//NONSGML v1.0//EN
CALSCALE:GREGORIAN
METHOD:PUBLISH
X-WR-CALNAME:Glenrothes Hillwalkers Club
X-ORIGINAL-URL:https://www.glenrotheshillwalkers.co.uk
X-WR-CALDESC:Events for Glenrothes Hillwalkers Club
REFRESH-INTERVAL;VALUE=DURATION:PT1H
X-Robots-Tag:noindex
X-PUBLISHED-TTL:PT1H
BEGIN:VTIMEZONE
TZID:Europe/London
BEGIN:DAYLIGHT
TZOFFSETFROM:+0000
TZOFFSETTO:+0100
TZNAME:BST
DTSTART:20230326T010000
END:DAYLIGHT
BEGIN:STANDARD
TZOFFSETFROM:+0100
TZOFFSETTO:+0000
TZNAME:GMT
DTSTART:20231029T010000
END:STANDARD
BEGIN:DAYLIGHT
TZOFFSETFROM:+0000
TZOFFSETTO:+0100
TZNAME:BST
DTSTART:20240331T010000
END:DAYLIGHT
BEGIN:STANDARD
TZOFFSETFROM:+0100
TZOFFSETTO:+0000
TZNAME:GMT
DTSTART:20241027T010000
END:STANDARD
BEGIN:DAYLIGHT
TZOFFSETFROM:+0000
TZOFFSETTO:+0100
TZNAME:BST
DTSTART:20250330T010000
END:DAYLIGHT
BEGIN:STANDARD
TZOFFSETFROM:+0100
TZOFFSETTO:+0000
TZNAME:GMT
DTSTART:20251026T010000
END:STANDARD
END:VTIMEZONE
BEGIN:VEVENT
DTSTART;TZID=Europe/London:20240830T000000
DTEND;TZID=Europe/London:20240901T235959
DTSTAMP:20260421T163310
CREATED:20231207T182742Z
LAST-MODIFIED:20240404T204150Z
UID:844-1724976000-1725235199@www.glenrotheshillwalkers.co.uk
SUMMARY:Weekend - Aviemore
DESCRIPTION:Please note the change of date. \n\n\n\nAviemore Youth Hostel. 8 Places 2 nights \n\n\n\n3 names so far
URL:https://www.glenrotheshillwalkers.co.uk/event/aviemore/
CATEGORIES:Weekend
ATTACH;FMTTYPE=image/png:https://www.glenrotheshillwalkers.co.uk/wp-content/uploads/2024/02/House18.png
ORGANIZER;CN="Jane McMinn":MAILTO:weekends@glenrotheshillwalkers.co.uk
END:VEVENT
BEGIN:VEVENT
DTSTART;TZID=Europe/London:20240908T000000
DTEND;TZID=Europe/London:20240908T235959
DTSTAMP:20260421T163310
CREATED:20240517T053603Z
LAST-MODIFIED:20240517T053605Z
UID:960-1725753600-1725839999@www.glenrotheshillwalkers.co.uk
SUMMARY:Drumochter
DESCRIPTION:A&B Walk Geal Charn GR597783 & A Mharconaich GR604763 \n\n\n\nC Walk Pitlochry-Grandtully-Pitlochry (Rob Roy way) \n\n\n\nMonthly walk with transport provided
URL:https://www.glenrotheshillwalkers.co.uk/event/drumochter/
CATEGORIES:Walk
ATTACH;FMTTYPE=image/png:https://www.glenrotheshillwalkers.co.uk/wp-content/uploads/2023/01/Coach.png
END:VEVENT
BEGIN:VEVENT
DTSTART;TZID=Europe/London:20240914T000000
DTEND;TZID=Europe/London:20240921T235959
DTSTAMP:20260421T163310
CREATED:20231207T183343Z
LAST-MODIFIED:20231207T183344Z
UID:846-1726272000-1726963199@www.glenrotheshillwalkers.co.uk
SUMMARY:Slovenia
DESCRIPTION:Lake Bled \n\n\n\nAs per being organized by June Smith \n\n\n\nNo Weekend this month
URL:https://www.glenrotheshillwalkers.co.uk/event/slovenia/
CATEGORIES:Holiday
ATTACH;FMTTYPE=image/jpeg:https://www.glenrotheshillwalkers.co.uk/wp-content/uploads/2023/12/20231031_124901-scaled.jpg
END:VEVENT
END:VCALENDAR