BEGIN:VCALENDAR
VERSION:2.0
PRODID:-//Glenrothes Hillwalkers Club - ECPv6.15.20//NONSGML v1.0//EN
CALSCALE:GREGORIAN
METHOD:PUBLISH
X-ORIGINAL-URL:https://www.glenrotheshillwalkers.co.uk
X-WR-CALDESC:Events for Glenrothes Hillwalkers Club
REFRESH-INTERVAL;VALUE=DURATION:PT1H
X-Robots-Tag:noindex
X-PUBLISHED-TTL:PT1H
BEGIN:VTIMEZONE
TZID:Europe/London
BEGIN:DAYLIGHT
TZOFFSETFROM:+0000
TZOFFSETTO:+0100
TZNAME:BST
DTSTART:20230326T010000
END:DAYLIGHT
BEGIN:STANDARD
TZOFFSETFROM:+0100
TZOFFSETTO:+0000
TZNAME:GMT
DTSTART:20231029T010000
END:STANDARD
BEGIN:DAYLIGHT
TZOFFSETFROM:+0000
TZOFFSETTO:+0100
TZNAME:BST
DTSTART:20240331T010000
END:DAYLIGHT
BEGIN:STANDARD
TZOFFSETFROM:+0100
TZOFFSETTO:+0000
TZNAME:GMT
DTSTART:20241027T010000
END:STANDARD
BEGIN:DAYLIGHT
TZOFFSETFROM:+0000
TZOFFSETTO:+0100
TZNAME:BST
DTSTART:20250330T010000
END:DAYLIGHT
BEGIN:STANDARD
TZOFFSETFROM:+0100
TZOFFSETTO:+0000
TZNAME:GMT
DTSTART:20251026T010000
END:STANDARD
END:VTIMEZONE
BEGIN:VEVENT
DTSTART;TZID=Europe/London:20240407T000000
DTEND;TZID=Europe/London:20240407T235959
DTSTAMP:20260421T133247
CREATED:20231022T132614Z
LAST-MODIFIED:20231022T134313Z
UID:775-1712448000-1712534399@www.glenrotheshillwalkers.co.uk
SUMMARY:Borders
DESCRIPTION:A Walk\, Broad Law GR146236 -Dollar Law (Corbett) GR178279 \n\n\n\nB Walk\, Broad Law GR146236 & Cramalt Craig GR168248 \n\n\n\nC Walk\, Circular walk Cocklie Rig Head GR093288 \n\n\n\nmonthly walk with transport provided
URL:https://www.glenrotheshillwalkers.co.uk/event/borders/
CATEGORIES:Walk
ATTACH;FMTTYPE=image/png:https://www.glenrotheshillwalkers.co.uk/wp-content/uploads/2023/01/Coach.png
END:VEVENT
BEGIN:VEVENT
DTSTART;TZID=Europe/London:20240426T000000
DTEND;TZID=Europe/London:20240429T235959
DTSTAMP:20260421T133247
CREATED:20231207T181335Z
LAST-MODIFIED:20240223T191730Z
UID:835-1714089600-1714435199@www.glenrotheshillwalkers.co.uk
SUMMARY:Morvich (NTS)
DESCRIPTION:Morvich outdoor Center \n\n\n\n8 Places for 3 nights \n\n\n\n8 names so far potential for 2 more spaces £75.00 each
URL:https://www.glenrotheshillwalkers.co.uk/event/morvich-nts-3/
CATEGORIES:Weekend
ATTACH;FMTTYPE=image/png:https://www.glenrotheshillwalkers.co.uk/wp-content/uploads/2023/01/cabin.png
END:VEVENT
END:VCALENDAR