BEGIN:VCALENDAR
VERSION:2.0
PRODID:-//Glenrothes Hillwalkers Club - ECPv6.15.20//NONSGML v1.0//EN
CALSCALE:GREGORIAN
METHOD:PUBLISH
X-WR-CALNAME:Glenrothes Hillwalkers Club
X-ORIGINAL-URL:https://www.glenrotheshillwalkers.co.uk
X-WR-CALDESC:Events for Glenrothes Hillwalkers Club
REFRESH-INTERVAL;VALUE=DURATION:PT1H
X-Robots-Tag:noindex
X-PUBLISHED-TTL:PT1H
BEGIN:VTIMEZONE
TZID:Europe/London
BEGIN:DAYLIGHT
TZOFFSETFROM:+0000
TZOFFSETTO:+0100
TZNAME:BST
DTSTART:20230326T010000
END:DAYLIGHT
BEGIN:STANDARD
TZOFFSETFROM:+0100
TZOFFSETTO:+0000
TZNAME:GMT
DTSTART:20231029T010000
END:STANDARD
BEGIN:DAYLIGHT
TZOFFSETFROM:+0000
TZOFFSETTO:+0100
TZNAME:BST
DTSTART:20240331T010000
END:DAYLIGHT
BEGIN:STANDARD
TZOFFSETFROM:+0100
TZOFFSETTO:+0000
TZNAME:GMT
DTSTART:20241027T010000
END:STANDARD
BEGIN:DAYLIGHT
TZOFFSETFROM:+0000
TZOFFSETTO:+0100
TZNAME:BST
DTSTART:20250330T010000
END:DAYLIGHT
BEGIN:STANDARD
TZOFFSETFROM:+0100
TZOFFSETTO:+0000
TZNAME:GMT
DTSTART:20251026T010000
END:STANDARD
END:VTIMEZONE
BEGIN:VEVENT
DTSTART;TZID=Europe/London:20240204T100000
DTEND;TZID=Europe/London:20240204T140000
DTSTAMP:20260422T060936
CREATED:20240127T212414Z
LAST-MODIFIED:20240202T174450Z
UID:875-1707040800-1707055200@www.glenrotheshillwalkers.co.uk
SUMMARY:Social Walk
DESCRIPTION:Circular walk Pillars of Hercules – Falkland Hill – Newton of Falkland – Pillars of Hercules \, 12km & 450mts climbing 3-4 hrs
URL:https://www.glenrotheshillwalkers.co.uk/event/social-walk/
CATEGORIES:Walk
ATTACH;FMTTYPE=image/webp:https://www.glenrotheshillwalkers.co.uk/wp-content/uploads/2024/02/1575741189Boy-And-Girl-Students-colour.webp
END:VEVENT
BEGIN:VEVENT
DTSTART;TZID=Europe/London:20240211T000000
DTEND;TZID=Europe/London:20240211T235959
DTSTAMP:20260422T060936
CREATED:20231022T131041Z
LAST-MODIFIED:20231022T134146Z
UID:767-1707609600-1707695999@www.glenrotheshillwalkers.co.uk
SUMMARY:Melrose
DESCRIPTION:A&B Walk St Cuthbert’s way & Eildon hills \n\n\n\nC Walk St Cuthbert’s way (Maxton-Melrose ) \n\n\n\nMonthly walk with transport provided
URL:https://www.glenrotheshillwalkers.co.uk/event/melrose/
CATEGORIES:Walk
ATTACH;FMTTYPE=image/png:https://www.glenrotheshillwalkers.co.uk/wp-content/uploads/2023/01/Coach.png
END:VEVENT
END:VCALENDAR