BEGIN:VCALENDAR
VERSION:2.0
PRODID:-//Glenrothes Hillwalkers Club - ECPv6.15.20//NONSGML v1.0//EN
CALSCALE:GREGORIAN
METHOD:PUBLISH
X-WR-CALNAME:Glenrothes Hillwalkers Club
X-ORIGINAL-URL:https://www.glenrotheshillwalkers.co.uk
X-WR-CALDESC:Events for Glenrothes Hillwalkers Club
REFRESH-INTERVAL;VALUE=DURATION:PT1H
X-Robots-Tag:noindex
X-PUBLISHED-TTL:PT1H
BEGIN:VTIMEZONE
TZID:Europe/London
BEGIN:DAYLIGHT
TZOFFSETFROM:+0000
TZOFFSETTO:+0100
TZNAME:BST
DTSTART:20230326T010000
END:DAYLIGHT
BEGIN:STANDARD
TZOFFSETFROM:+0100
TZOFFSETTO:+0000
TZNAME:GMT
DTSTART:20231029T010000
END:STANDARD
BEGIN:DAYLIGHT
TZOFFSETFROM:+0000
TZOFFSETTO:+0100
TZNAME:BST
DTSTART:20240331T010000
END:DAYLIGHT
BEGIN:STANDARD
TZOFFSETFROM:+0100
TZOFFSETTO:+0000
TZNAME:GMT
DTSTART:20241027T010000
END:STANDARD
BEGIN:DAYLIGHT
TZOFFSETFROM:+0000
TZOFFSETTO:+0100
TZNAME:BST
DTSTART:20250330T010000
END:DAYLIGHT
BEGIN:STANDARD
TZOFFSETFROM:+0100
TZOFFSETTO:+0000
TZNAME:GMT
DTSTART:20251026T010000
END:STANDARD
END:VTIMEZONE
BEGIN:VEVENT
DTSTART;TZID=Europe/London:20240121T000000
DTEND;TZID=Europe/London:20240121T235959
DTSTAMP:20260422T080907
CREATED:20231022T125254Z
LAST-MODIFIED:20231211T215427Z
UID:761-1705795200-1705881599@www.glenrotheshillwalkers.co.uk
SUMMARY:West Linton (Date Changed)
DESCRIPTION:A&B Walk Circular walk above west water reservoir  \n\n\n\nC Walk Circular walk from West Linton \n\n\n\n\n\n Monthly walk with transport provided
URL:https://www.glenrotheshillwalkers.co.uk/event/west-linton/
CATEGORIES:Walk
ATTACH;FMTTYPE=image/png:https://www.glenrotheshillwalkers.co.uk/wp-content/uploads/2023/01/Coach.png
END:VEVENT
END:VCALENDAR