BEGIN:VCALENDAR
VERSION:2.0
PRODID:-//Glenrothes Hillwalkers Club - ECPv6.15.20//NONSGML v1.0//EN
CALSCALE:GREGORIAN
METHOD:PUBLISH
X-WR-CALNAME:Glenrothes Hillwalkers Club
X-ORIGINAL-URL:https://www.glenrotheshillwalkers.co.uk
X-WR-CALDESC:Events for Glenrothes Hillwalkers Club
REFRESH-INTERVAL;VALUE=DURATION:PT1H
X-Robots-Tag:noindex
X-PUBLISHED-TTL:PT1H
BEGIN:VTIMEZONE
TZID:Europe/London
BEGIN:DAYLIGHT
TZOFFSETFROM:+0000
TZOFFSETTO:+0100
TZNAME:BST
DTSTART:20220327T010000
END:DAYLIGHT
BEGIN:STANDARD
TZOFFSETFROM:+0100
TZOFFSETTO:+0000
TZNAME:GMT
DTSTART:20221030T010000
END:STANDARD
BEGIN:DAYLIGHT
TZOFFSETFROM:+0000
TZOFFSETTO:+0100
TZNAME:BST
DTSTART:20230326T010000
END:DAYLIGHT
BEGIN:STANDARD
TZOFFSETFROM:+0100
TZOFFSETTO:+0000
TZNAME:GMT
DTSTART:20231029T010000
END:STANDARD
BEGIN:DAYLIGHT
TZOFFSETFROM:+0000
TZOFFSETTO:+0100
TZNAME:BST
DTSTART:20240331T010000
END:DAYLIGHT
BEGIN:STANDARD
TZOFFSETFROM:+0100
TZOFFSETTO:+0000
TZNAME:GMT
DTSTART:20241027T010000
END:STANDARD
END:VTIMEZONE
BEGIN:VEVENT
DTSTART;TZID=Europe/London:20231205T193000
DTEND;TZID=Europe/London:20231205T213000
DTSTAMP:20260422T101541
CREATED:20231102T200130Z
LAST-MODIFIED:20231102T202655Z
UID:788-1701804600-1701811800@www.glenrotheshillwalkers.co.uk
SUMMARY:Indoor Meeting
DESCRIPTION:The evening features a team quiz with a prize for the winning team and a raffle in aid of mountain rescue. \n\n\n\nWe ask if people can bring along a raffle prize and hopefully take @ least one away. Its very light hearted with some very unusual topics in the quiz.
URL:https://www.glenrotheshillwalkers.co.uk/event/indoor-meeting-3/
LOCATION:Lomond Centre\, Woodside Way\, Glenrothes\, KY7 5RA\, United Kingdom
CATEGORIES:Meeting
ATTACH;FMTTYPE=image/jpeg:https://www.glenrotheshillwalkers.co.uk/wp-content/uploads/2023/01/LomondCentre.jpg
END:VEVENT
BEGIN:VEVENT
DTSTART;TZID=Europe/London:20231207T120000
DTEND;TZID=Europe/London:20231207T120000
DTSTAMP:20260422T101541
CREATED:20231207T182514Z
LAST-MODIFIED:20231207T182515Z
UID:842-1701950400-1701950400@www.glenrotheshillwalkers.co.uk
SUMMARY:Assynt/Inchnadamph
DESCRIPTION:July2024 \n\n\n\nLaxford House Laxford bridge Sutherland
URL:https://www.glenrotheshillwalkers.co.uk/event/assynt-inchnadamph-2/
CATEGORIES:Weekend
ATTACH;FMTTYPE=image/png:https://www.glenrotheshillwalkers.co.uk/wp-content/uploads/2023/01/cabin.png
END:VEVENT
BEGIN:VEVENT
DTSTART;TZID=Europe/London:20231209T193000
DTEND;TZID=Europe/London:20231209T213000
DTSTAMP:20260422T101541
CREATED:20231207T184425Z
LAST-MODIFIED:20231207T184831Z
UID:852-1702150200-1702157400@www.glenrotheshillwalkers.co.uk
SUMMARY:AGM
DESCRIPTION:Also Presenting Louise Cascarino with her Quaich for Completing all her Munros
URL:https://www.glenrotheshillwalkers.co.uk/event/agm/
CATEGORIES:Meeting
ATTACH;FMTTYPE=image/jpeg:https://www.glenrotheshillwalkers.co.uk/wp-content/uploads/2023/01/LomondCentre.jpg
END:VEVENT
BEGIN:VEVENT
DTSTART;TZID=Europe/London:20231210T000000
DTEND;TZID=Europe/London:20231210T235959
DTSTAMP:20260422T101541
CREATED:20230508T104001Z
LAST-MODIFIED:20230508T105103Z
UID:720-1702166400-1702252799@www.glenrotheshillwalkers.co.uk
SUMMARY:Walk - Dunbar-north Berwick
DESCRIPTION:Monthly walk with transport provided
URL:https://www.glenrotheshillwalkers.co.uk/event/walk-dunbar-north-berwick/
CATEGORIES:Walk
ATTACH;FMTTYPE=image/png:https://www.glenrotheshillwalkers.co.uk/wp-content/uploads/2023/01/Coach.png
END:VEVENT
END:VCALENDAR