BEGIN:VCALENDAR
VERSION:2.0
PRODID:-//Glenrothes Hillwalkers Club - ECPv6.15.20//NONSGML v1.0//EN
CALSCALE:GREGORIAN
METHOD:PUBLISH
X-WR-CALNAME:Glenrothes Hillwalkers Club
X-ORIGINAL-URL:https://www.glenrotheshillwalkers.co.uk
X-WR-CALDESC:Events for Glenrothes Hillwalkers Club
REFRESH-INTERVAL;VALUE=DURATION:PT1H
X-Robots-Tag:noindex
X-PUBLISHED-TTL:PT1H
BEGIN:VTIMEZONE
TZID:Europe/London
BEGIN:DAYLIGHT
TZOFFSETFROM:+0000
TZOFFSETTO:+0100
TZNAME:BST
DTSTART:20220327T010000
END:DAYLIGHT
BEGIN:STANDARD
TZOFFSETFROM:+0100
TZOFFSETTO:+0000
TZNAME:GMT
DTSTART:20221030T010000
END:STANDARD
BEGIN:DAYLIGHT
TZOFFSETFROM:+0000
TZOFFSETTO:+0100
TZNAME:BST
DTSTART:20230326T010000
END:DAYLIGHT
BEGIN:STANDARD
TZOFFSETFROM:+0100
TZOFFSETTO:+0000
TZNAME:GMT
DTSTART:20231029T010000
END:STANDARD
BEGIN:DAYLIGHT
TZOFFSETFROM:+0000
TZOFFSETTO:+0100
TZNAME:BST
DTSTART:20240331T010000
END:DAYLIGHT
BEGIN:STANDARD
TZOFFSETFROM:+0100
TZOFFSETTO:+0000
TZNAME:GMT
DTSTART:20241027T010000
END:STANDARD
END:VTIMEZONE
BEGIN:VEVENT
DTSTART;TZID=Europe/London:20231008T000000
DTEND;TZID=Europe/London:20231008T235959
DTSTAMP:20260422T134355
CREATED:20230608T181344Z
LAST-MODIFIED:20230608T181345Z
UID:729-1696723200-1696809599@www.glenrotheshillwalkers.co.uk
SUMMARY:Walk Laggan
DESCRIPTION:Monthly walk with transport included
URL:https://www.glenrotheshillwalkers.co.uk/event/walk-laggan/
CATEGORIES:Walk
ATTACH;FMTTYPE=image/png:https://www.glenrotheshillwalkers.co.uk/wp-content/uploads/2023/01/Coach.png
END:VEVENT
BEGIN:VEVENT
DTSTART;TZID=Europe/London:20231014T000000
DTEND;TZID=Europe/London:20231016T235959
DTSTAMP:20260422T134355
CREATED:20230419T124433Z
LAST-MODIFIED:20230508T101112Z
UID:696-1697241600-1697500799@www.glenrotheshillwalkers.co.uk
SUMMARY:weekend -Aviemore
DESCRIPTION:Aviemore YH ( SYHA – Hosteling Scotland) \n\n\n\n2 nights 7 places
URL:https://www.glenrotheshillwalkers.co.uk/event/weekend-aviemore/
CATEGORIES:Weekend
ATTACH;FMTTYPE=image/png:https://www.glenrotheshillwalkers.co.uk/wp-content/uploads/2023/01/cabin.png
ORGANIZER;CN="Jane McMinn":MAILTO:weekends@glenrotheshillwalkers.co.uk
END:VEVENT
END:VCALENDAR