BEGIN:VCALENDAR
VERSION:2.0
PRODID:-//Glenrothes Hillwalkers Club - ECPv6.15.20//NONSGML v1.0//EN
CALSCALE:GREGORIAN
METHOD:PUBLISH
X-WR-CALNAME:Glenrothes Hillwalkers Club
X-ORIGINAL-URL:https://www.glenrotheshillwalkers.co.uk
X-WR-CALDESC:Events for Glenrothes Hillwalkers Club
REFRESH-INTERVAL;VALUE=DURATION:PT1H
X-Robots-Tag:noindex
X-PUBLISHED-TTL:PT1H
BEGIN:VTIMEZONE
TZID:Europe/London
BEGIN:DAYLIGHT
TZOFFSETFROM:+0000
TZOFFSETTO:+0100
TZNAME:BST
DTSTART:20220327T010000
END:DAYLIGHT
BEGIN:STANDARD
TZOFFSETFROM:+0100
TZOFFSETTO:+0000
TZNAME:GMT
DTSTART:20221030T010000
END:STANDARD
BEGIN:DAYLIGHT
TZOFFSETFROM:+0000
TZOFFSETTO:+0100
TZNAME:BST
DTSTART:20230326T010000
END:DAYLIGHT
BEGIN:STANDARD
TZOFFSETFROM:+0100
TZOFFSETTO:+0000
TZNAME:GMT
DTSTART:20231029T010000
END:STANDARD
BEGIN:DAYLIGHT
TZOFFSETFROM:+0000
TZOFFSETTO:+0100
TZNAME:BST
DTSTART:20240331T010000
END:DAYLIGHT
BEGIN:STANDARD
TZOFFSETFROM:+0100
TZOFFSETTO:+0000
TZNAME:GMT
DTSTART:20241027T010000
END:STANDARD
END:VTIMEZONE
BEGIN:VEVENT
DTSTART;TZID=Europe/London:20230801T193000
DTEND;TZID=Europe/London:20230801T213000
DTSTAMP:20260422T172448
CREATED:20230115T223224Z
LAST-MODIFIED:20230124T193102Z
UID:137-1690918200-1690925400@www.glenrotheshillwalkers.co.uk
SUMMARY:Indoor Meeting
DESCRIPTION:
URL:https://www.glenrotheshillwalkers.co.uk/event/indoor-meeting-2/
LOCATION:Lomond Centre\, Woodside Way\, Glenrothes\, KY7 5RA\, United Kingdom
CATEGORIES:Meeting
ATTACH;FMTTYPE=image/jpeg:https://www.glenrotheshillwalkers.co.uk/wp-content/uploads/2023/01/LomondCentre.jpg
END:VEVENT
BEGIN:VEVENT
DTSTART;TZID=Europe/London:20230806T000000
DTEND;TZID=Europe/London:20230806T235959
DTSTAMP:20260422T172448
CREATED:20230508T102617Z
LAST-MODIFIED:20230508T105122Z
UID:714-1691280000-1691366399@www.glenrotheshillwalkers.co.uk
SUMMARY:Walk Glencoe
DESCRIPTION:Monthly walk with transport provided
URL:https://www.glenrotheshillwalkers.co.uk/event/walk-glencoe/
CATEGORIES:Walk
ATTACH;FMTTYPE=image/png:https://www.glenrotheshillwalkers.co.uk/wp-content/uploads/2023/01/Coach.png
END:VEVENT
BEGIN:VEVENT
DTSTART;TZID=Europe/London:20230825T000000
DTEND;TZID=Europe/London:20230828T235959
DTSTAMP:20260422T172448
CREATED:20230419T123216Z
LAST-MODIFIED:20230508T101023Z
UID:692-1692921600-1693267199@www.glenrotheshillwalkers.co.uk
SUMMARY:Weekend-Glenfinnan
DESCRIPTION:Glenfinnan Bunkhouse \n\n\n\n\n\n3 nights 10 places
URL:https://www.glenrotheshillwalkers.co.uk/event/weekend-glenfinnan/
CATEGORIES:Weekend
ATTACH;FMTTYPE=image/png:https://www.glenrotheshillwalkers.co.uk/wp-content/uploads/2023/01/cabin.png
ORGANIZER;CN="Jane McMinn":MAILTO:weekends@glenrotheshillwalkers.co.uk
END:VEVENT
END:VCALENDAR