BEGIN:VCALENDAR
VERSION:2.0
PRODID:-//Glenrothes Hillwalkers Club - ECPv6.15.20//NONSGML v1.0//EN
CALSCALE:GREGORIAN
METHOD:PUBLISH
X-WR-CALNAME:Glenrothes Hillwalkers Club
X-ORIGINAL-URL:https://www.glenrotheshillwalkers.co.uk
X-WR-CALDESC:Events for Glenrothes Hillwalkers Club
REFRESH-INTERVAL;VALUE=DURATION:PT1H
X-Robots-Tag:noindex
X-PUBLISHED-TTL:PT1H
BEGIN:VTIMEZONE
TZID:Europe/London
BEGIN:DAYLIGHT
TZOFFSETFROM:+0000
TZOFFSETTO:+0100
TZNAME:BST
DTSTART:20220327T010000
END:DAYLIGHT
BEGIN:STANDARD
TZOFFSETFROM:+0100
TZOFFSETTO:+0000
TZNAME:GMT
DTSTART:20221030T010000
END:STANDARD
BEGIN:DAYLIGHT
TZOFFSETFROM:+0000
TZOFFSETTO:+0100
TZNAME:BST
DTSTART:20230326T010000
END:DAYLIGHT
BEGIN:STANDARD
TZOFFSETFROM:+0100
TZOFFSETTO:+0000
TZNAME:GMT
DTSTART:20231029T010000
END:STANDARD
BEGIN:DAYLIGHT
TZOFFSETFROM:+0000
TZOFFSETTO:+0100
TZNAME:BST
DTSTART:20240331T010000
END:DAYLIGHT
BEGIN:STANDARD
TZOFFSETFROM:+0100
TZOFFSETTO:+0000
TZNAME:GMT
DTSTART:20241027T010000
END:STANDARD
END:VTIMEZONE
BEGIN:VEVENT
DTSTART;TZID=Europe/London:20230611T000000
DTEND;TZID=Europe/London:20230611T235959
DTSTAMP:20260422T205726
CREATED:20230125T221238Z
LAST-MODIFIED:20230508T105313Z
UID:585-1686441600-1686527999@www.glenrotheshillwalkers.co.uk
SUMMARY:Walk - Cairngorms
DESCRIPTION:Walks covering: (A) Braeriach\, \n\n\n\n(B) Cairn Gorm & Ben Macdui\, \n\n\n\n(C) Loch an Eilein to Loch Morlich
URL:https://www.glenrotheshillwalkers.co.uk/event/walk-cairngorms/
CATEGORIES:Walk
ATTACH;FMTTYPE=image/png:https://www.glenrotheshillwalkers.co.uk/wp-content/uploads/2023/01/Coach.png
END:VEVENT
BEGIN:VEVENT
DTSTART;TZID=Europe/London:20230630T000000
DTEND;TZID=Europe/London:20230703T235959
DTSTAMP:20260422T205726
CREATED:20230127T235147Z
LAST-MODIFIED:20230128T104100Z
UID:630-1688083200-1688428799@www.glenrotheshillwalkers.co.uk
SUMMARY:Weekend - Lochbroom
DESCRIPTION:NB NEW DATES \n\n\n\n3 Nights. 8 Places. List closes end of April.
URL:https://www.glenrotheshillwalkers.co.uk/event/weekend-lochbroom/
LOCATION:Forest Way Bunkhouse\, Forest Way\, Lael\, Lochbroom\, IV23 2RS\, United Kingdom
CATEGORIES:Weekend
ATTACH;FMTTYPE=image/png:https://www.glenrotheshillwalkers.co.uk/wp-content/uploads/2023/01/cabin.png
ORGANIZER;CN="Jane McMinn":MAILTO:weekends@glenrotheshillwalkers.co.uk
END:VEVENT
END:VCALENDAR