BEGIN:VCALENDAR
VERSION:2.0
PRODID:-//Glenrothes Hillwalkers Club - ECPv6.15.20//NONSGML v1.0//EN
CALSCALE:GREGORIAN
METHOD:PUBLISH
X-ORIGINAL-URL:https://www.glenrotheshillwalkers.co.uk
X-WR-CALDESC:Events for Glenrothes Hillwalkers Club
REFRESH-INTERVAL;VALUE=DURATION:PT1H
X-Robots-Tag:noindex
X-PUBLISHED-TTL:PT1H
BEGIN:VTIMEZONE
TZID:Europe/London
BEGIN:DAYLIGHT
TZOFFSETFROM:+0000
TZOFFSETTO:+0100
TZNAME:BST
DTSTART:20220327T010000
END:DAYLIGHT
BEGIN:STANDARD
TZOFFSETFROM:+0100
TZOFFSETTO:+0000
TZNAME:GMT
DTSTART:20221030T010000
END:STANDARD
BEGIN:DAYLIGHT
TZOFFSETFROM:+0000
TZOFFSETTO:+0100
TZNAME:BST
DTSTART:20230326T010000
END:DAYLIGHT
BEGIN:STANDARD
TZOFFSETFROM:+0100
TZOFFSETTO:+0000
TZNAME:GMT
DTSTART:20231029T010000
END:STANDARD
BEGIN:DAYLIGHT
TZOFFSETFROM:+0000
TZOFFSETTO:+0100
TZNAME:BST
DTSTART:20240331T010000
END:DAYLIGHT
BEGIN:STANDARD
TZOFFSETFROM:+0100
TZOFFSETTO:+0000
TZNAME:GMT
DTSTART:20241027T010000
END:STANDARD
BEGIN:DAYLIGHT
TZOFFSETFROM:+0000
TZOFFSETTO:+0100
TZNAME:BST
DTSTART:20250330T010000
END:DAYLIGHT
BEGIN:STANDARD
TZOFFSETFROM:+0100
TZOFFSETTO:+0000
TZNAME:GMT
DTSTART:20251026T010000
END:STANDARD
BEGIN:DAYLIGHT
TZOFFSETFROM:+0000
TZOFFSETTO:+0100
TZNAME:BST
DTSTART:20260329T010000
END:DAYLIGHT
BEGIN:STANDARD
TZOFFSETFROM:+0100
TZOFFSETTO:+0000
TZNAME:GMT
DTSTART:20261025T010000
END:STANDARD
BEGIN:DAYLIGHT
TZOFFSETFROM:+0000
TZOFFSETTO:+0100
TZNAME:BST
DTSTART:20270328T010000
END:DAYLIGHT
BEGIN:STANDARD
TZOFFSETFROM:+0100
TZOFFSETTO:+0000
TZNAME:GMT
DTSTART:20271031T010000
END:STANDARD
END:VTIMEZONE
BEGIN:VEVENT
DTSTART;TZID=Europe/London:20260203T193000
DTEND;TZID=Europe/London:20260203T210000
DTSTAMP:20260420T132932
CREATED:20260112T110036Z
LAST-MODIFIED:20260112T110038Z
UID:1303-1770147000-1770152400@www.glenrotheshillwalkers.co.uk
SUMMARY:AGM
DESCRIPTION:Indoor meeting and AGM
URL:https://www.glenrotheshillwalkers.co.uk/event/agm-2/
CATEGORIES:Meeting
ATTACH;FMTTYPE=image/jpeg:https://www.glenrotheshillwalkers.co.uk/wp-content/uploads/2023/01/LomondCentre.jpg
END:VEVENT
BEGIN:VEVENT
DTSTART;TZID=Europe/London:20251202T193000
DTEND;TZID=Europe/London:20251202T213000
DTSTAMP:20260420T132932
CREATED:20241207T185048Z
LAST-MODIFIED:20241207T185450Z
UID:1047-1764703800-1764711000@www.glenrotheshillwalkers.co.uk
SUMMARY:Quiz Night
DESCRIPTION:Lomond Center
URL:https://www.glenrotheshillwalkers.co.uk/event/quiz-night/
CATEGORIES:Meeting
ATTACH;FMTTYPE=image/jpeg:https://www.glenrotheshillwalkers.co.uk/wp-content/uploads/2023/01/LomondCentre.jpg
END:VEVENT
BEGIN:VEVENT
DTSTART;TZID=Europe/London:20251007T193000
DTEND;TZID=Europe/London:20251007T210000
DTSTAMP:20260420T132932
CREATED:20241207T184845Z
LAST-MODIFIED:20251005T195351Z
UID:1045-1759865400-1759870800@www.glenrotheshillwalkers.co.uk
SUMMARY:Lomond Centre
DESCRIPTION:Tea coffee and a chat
URL:https://www.glenrotheshillwalkers.co.uk/event/lomond-center-4/
CATEGORIES:Meeting
ATTACH;FMTTYPE=image/jpeg:https://www.glenrotheshillwalkers.co.uk/wp-content/uploads/2023/01/LomondCentre.jpg
END:VEVENT
BEGIN:VEVENT
DTSTART;TZID=Europe/London:20250805T193000
DTEND;TZID=Europe/London:20250805T213000
DTSTAMP:20260420T132932
CREATED:20241207T184652Z
LAST-MODIFIED:20241207T185413Z
UID:1043-1754422200-1754429400@www.glenrotheshillwalkers.co.uk
SUMMARY:Lomond Center
DESCRIPTION:Speaker ( to be announced)
URL:https://www.glenrotheshillwalkers.co.uk/event/lomond-center-3/
CATEGORIES:Meeting
ATTACH;FMTTYPE=image/jpeg:https://www.glenrotheshillwalkers.co.uk/wp-content/uploads/2023/01/LomondCentre.jpg
END:VEVENT
BEGIN:VEVENT
DTSTART;TZID=Europe/London:20250603T193000
DTEND;TZID=Europe/London:20250603T210000
DTSTAMP:20260420T132932
CREATED:20241207T184447Z
LAST-MODIFIED:20250324T104017Z
UID:1041-1748979000-1748984400@www.glenrotheshillwalkers.co.uk
SUMMARY:Lomond Center
DESCRIPTION:Tea and Coffee and a Chat
URL:https://www.glenrotheshillwalkers.co.uk/event/lomond-center-2/
CATEGORIES:Meeting
ATTACH;FMTTYPE=image/jpeg:https://www.glenrotheshillwalkers.co.uk/wp-content/uploads/2023/01/LomondCentre.jpg
END:VEVENT
BEGIN:VEVENT
DTSTART;TZID=Europe/London:20250401T193000
DTEND;TZID=Europe/London:20250401T213000
DTSTAMP:20260420T132932
CREATED:20241207T184222Z
LAST-MODIFIED:20241207T184223Z
UID:1038-1743535800-1743543000@www.glenrotheshillwalkers.co.uk
SUMMARY:Lomond Center
DESCRIPTION:speaker  (to be announced)
URL:https://www.glenrotheshillwalkers.co.uk/event/lomond-center/
CATEGORIES:Meeting
ATTACH;FMTTYPE=image/jpeg:https://www.glenrotheshillwalkers.co.uk/wp-content/uploads/2023/01/LomondCentre.jpg
END:VEVENT
BEGIN:VEVENT
DTSTART;TZID=Europe/London:20250107T193000
DTEND;TZID=Europe/London:20250107T210000
DTSTAMP:20260420T132932
CREATED:20241207T183837Z
LAST-MODIFIED:20241207T183845Z
UID:1036-1736278200-1736283600@www.glenrotheshillwalkers.co.uk
SUMMARY:AGM Lomond Center
DESCRIPTION:AGM
URL:https://www.glenrotheshillwalkers.co.uk/event/agm-lomond-center/
CATEGORIES:Meeting
ATTACH;FMTTYPE=image/jpeg:https://www.glenrotheshillwalkers.co.uk/wp-content/uploads/2023/01/LomondCentre.jpg
END:VEVENT
BEGIN:VEVENT
DTSTART;TZID=Europe/London:20241203T193000
DTEND;TZID=Europe/London:20241203T213000
DTSTAMP:20260420T132932
CREATED:20240610T175438Z
LAST-MODIFIED:20240610T175439Z
UID:982-1733254200-1733261400@www.glenrotheshillwalkers.co.uk
SUMMARY:Indoor Meeting
DESCRIPTION:Lomond Center \n\n\n\n\n\nQuiz Night  and Raffle for mountain Rescue
URL:https://www.glenrotheshillwalkers.co.uk/event/indoor-meeting-6/
CATEGORIES:Meeting
ATTACH;FMTTYPE=image/jpeg:https://www.glenrotheshillwalkers.co.uk/wp-content/uploads/2023/01/LomondCentre.jpg
END:VEVENT
BEGIN:VEVENT
DTSTART;TZID=Europe/London:20241001T193000
DTEND;TZID=Europe/London:20241001T213000
DTSTAMP:20260420T132932
CREATED:20240610T174425Z
LAST-MODIFIED:20240610T174426Z
UID:980-1727811000-1727818200@www.glenrotheshillwalkers.co.uk
SUMMARY:Indoor Meeting
DESCRIPTION:Lomond Center \n\n\n\n\n\nIntroduction to Club Hut Weekends
URL:https://www.glenrotheshillwalkers.co.uk/event/indoor-meeting-5/
CATEGORIES:Meeting
ATTACH;FMTTYPE=image/jpeg:https://www.glenrotheshillwalkers.co.uk/wp-content/uploads/2023/01/LomondCentre.jpg
END:VEVENT
BEGIN:VEVENT
DTSTART;TZID=Europe/London:20240806T193000
DTEND;TZID=Europe/London:20240806T213000
DTSTAMP:20260420T132932
CREATED:20240610T174022Z
LAST-MODIFIED:20240610T174134Z
UID:977-1722972600-1722979800@www.glenrotheshillwalkers.co.uk
SUMMARY:Indoor Meeting
DESCRIPTION:Lomond center \n\n\n\n\n\nSpeaker- Traverse of the Skye Ridge (11 Munros in one day)
URL:https://www.glenrotheshillwalkers.co.uk/event/indoor-meeting-4/
CATEGORIES:Meeting
ATTACH;FMTTYPE=image/jpeg:https://www.glenrotheshillwalkers.co.uk/wp-content/uploads/2023/01/LomondCentre.jpg
END:VEVENT
BEGIN:VEVENT
DTSTART;TZID=Europe/London:20231209T193000
DTEND;TZID=Europe/London:20231209T213000
DTSTAMP:20260420T132932
CREATED:20231207T184425Z
LAST-MODIFIED:20231207T184831Z
UID:852-1702150200-1702157400@www.glenrotheshillwalkers.co.uk
SUMMARY:AGM
DESCRIPTION:Also Presenting Louise Cascarino with her Quaich for Completing all her Munros
URL:https://www.glenrotheshillwalkers.co.uk/event/agm/
CATEGORIES:Meeting
ATTACH;FMTTYPE=image/jpeg:https://www.glenrotheshillwalkers.co.uk/wp-content/uploads/2023/01/LomondCentre.jpg
END:VEVENT
BEGIN:VEVENT
DTSTART;TZID=Europe/London:20231205T193000
DTEND;TZID=Europe/London:20231205T213000
DTSTAMP:20260420T132932
CREATED:20231102T200130Z
LAST-MODIFIED:20231102T202655Z
UID:788-1701804600-1701811800@www.glenrotheshillwalkers.co.uk
SUMMARY:Indoor Meeting
DESCRIPTION:The evening features a team quiz with a prize for the winning team and a raffle in aid of mountain rescue. \n\n\n\nWe ask if people can bring along a raffle prize and hopefully take @ least one away. Its very light hearted with some very unusual topics in the quiz.
URL:https://www.glenrotheshillwalkers.co.uk/event/indoor-meeting-3/
LOCATION:Lomond Centre\, Woodside Way\, Glenrothes\, KY7 5RA\, United Kingdom
CATEGORIES:Meeting
ATTACH;FMTTYPE=image/jpeg:https://www.glenrotheshillwalkers.co.uk/wp-content/uploads/2023/01/LomondCentre.jpg
END:VEVENT
BEGIN:VEVENT
DTSTART;TZID=Europe/London:20230801T193000
DTEND;TZID=Europe/London:20230801T213000
DTSTAMP:20260420T132932
CREATED:20230115T223224Z
LAST-MODIFIED:20230124T193102Z
UID:137-1690918200-1690925400@www.glenrotheshillwalkers.co.uk
SUMMARY:Indoor Meeting
DESCRIPTION:
URL:https://www.glenrotheshillwalkers.co.uk/event/indoor-meeting-2/
LOCATION:Lomond Centre\, Woodside Way\, Glenrothes\, KY7 5RA\, United Kingdom
CATEGORIES:Meeting
ATTACH;FMTTYPE=image/jpeg:https://www.glenrotheshillwalkers.co.uk/wp-content/uploads/2023/01/LomondCentre.jpg
END:VEVENT
BEGIN:VEVENT
DTSTART;TZID=Europe/London:20230404T193000
DTEND;TZID=Europe/London:20230404T213000
DTSTAMP:20260420T132932
CREATED:20230115T221624Z
LAST-MODIFIED:20230124T193137Z
UID:134-1680636600-1680643800@www.glenrotheshillwalkers.co.uk
SUMMARY:Indoor Meeting
DESCRIPTION:
URL:https://www.glenrotheshillwalkers.co.uk/event/indoor-meeting/
LOCATION:Lomond Centre\, Woodside Way\, Glenrothes\, KY7 5RA\, United Kingdom
CATEGORIES:Meeting
ATTACH;FMTTYPE=image/jpeg:https://www.glenrotheshillwalkers.co.uk/wp-content/uploads/2023/01/LomondCentre.jpg
END:VEVENT
BEGIN:VEVENT
DTSTART;TZID=Europe/London:20230114T080000
DTEND;TZID=Europe/London:20230114T234922
DTSTAMP:20260420T132932
CREATED:20230114T234801Z
LAST-MODIFIED:20230404T204310Z
UID:41-1673683200-1673740162@www.glenrotheshillwalkers.co.uk
SUMMARY:Meeting - Test
DESCRIPTION:Trial
URL:https://www.glenrotheshillwalkers.co.uk/event/meeting-test/
CATEGORIES:Meeting
END:VEVENT
END:VCALENDAR